BEGIN:VCALENDAR
VERSION:2.0
PRODID:-//Disability Awareness Council - ECPv6.6.3//NONSGML v1.0//EN
CALSCALE:GREGORIAN
METHOD:PUBLISH
X-ORIGINAL-URL:https://www.triangledac.org
X-WR-CALDESC:Events for Disability Awareness Council
REFRESH-INTERVAL;VALUE=DURATION:PT1H
X-Robots-Tag:noindex
X-PUBLISHED-TTL:PT1H
BEGIN:VTIMEZONE
TZID:America/New_York
BEGIN:DAYLIGHT
TZOFFSETFROM:-0500
TZOFFSETTO:-0400
TZNAME:EDT
DTSTART:20240310T070000
END:DAYLIGHT
BEGIN:STANDARD
TZOFFSETFROM:-0400
TZOFFSETTO:-0500
TZNAME:EST
DTSTART:20241103T060000
END:STANDARD
END:VTIMEZONE
BEGIN:VEVENT
DTSTART;TZID=America/New_York:20240720T110000
DTEND;TZID=America/New_York:20240720T160000
DTSTAMP:20260419T095613
CREATED:20240411T132149Z
LAST-MODIFIED:20240718T023910Z
UID:1609-1721473200-1721491200@www.triangledac.org
SUMMARY:HEALTHCARE & ASSISTIVE TECHNIQUES FAIR
DESCRIPTION:HEALTHCARE & ASSISTIVE TECHNIQUES FAIR(Honoring 34th American with Disabilities Act)Join us for a day of innovation\, inspiration\, and education as we showcase the latest tech trends and innovations.Date : July 20th 2024 Time : 11-4.00 PMLocation @ 100\, Library Drive\, Chapel Hill\, NC 27514. \n\n\n\nVendors – Vander Pharmacy\, Script Talk\, Abbott Libre \n\n\n\nDisability Awareness May Month \n\n\n\n\n\n\n\n\n\n\n\nClick here to Register \ Purchase Tickets \n\n\n01234567891011121314151617181920212223242526272829303132333435363738394041424344454647484950Attendee10.00 USDIncludes Lunch01234567891011121314151617181920212223242526272829303132333435363738394041424344454647484950Non-Profit Vendor50.00 USDNon-Profit Vendor01234567891011121314151617181920212223242526272829303132333435363738394041424344454647484950Business Vendor75.00 USDBusiness VendorYour eTicket will be emailed after payment to your PayPal email address.\n\n\n\nHow to Register \ Pay: \n\n\n\n\nChoose number of attendees\n\n\n\nClick Pay Now\n\n\n\nClick Debit \ Credit\n\n\n\nEnter Email Address\n\n\n\nEnter Name\, Phone Number\n\n\n\nEnter Payment Information\n\n\n\nClick Pay\n\n\n\nYour ticket will be emailed\n\n\n\n\n\n\n\n\n \n\n\n\nUnable to Attend? Join Zoom Meetinghttps://us06web.zoom.us/j/86432662456?pwd=aRIayHNb2ySHHcJfXpml3YtT2cHQml.1Meeting ID: 864 3266 2456Passcode: 123456
URL:https://www.triangledac.org/dacevent/healthcare-assistive-techniques-fair/
LOCATION:Chapel Hill Public Library\, 100 Library Dr. Room A\, Chapel Hill\, NC\, 27514\, United States
END:VEVENT
END:VCALENDAR