BEGIN:VCALENDAR
VERSION:2.0
PRODID:-//Disability Awareness Council - ECPv6.6.3//NONSGML v1.0//EN
CALSCALE:GREGORIAN
METHOD:PUBLISH
X-WR-CALNAME:Disability Awareness Council
X-ORIGINAL-URL:https://www.triangledac.org
X-WR-CALDESC:Events for Disability Awareness Council
REFRESH-INTERVAL;VALUE=DURATION:PT1H
X-Robots-Tag:noindex
X-PUBLISHED-TTL:PT1H
BEGIN:VTIMEZONE
TZID:America/New_York
BEGIN:DAYLIGHT
TZOFFSETFROM:-0500
TZOFFSETTO:-0400
TZNAME:EDT
DTSTART:20230312T070000
END:DAYLIGHT
BEGIN:STANDARD
TZOFFSETFROM:-0400
TZOFFSETTO:-0500
TZNAME:EST
DTSTART:20231105T060000
END:STANDARD
END:VTIMEZONE
BEGIN:VEVENT
DTSTART;TZID=America/New_York:20231014T130000
DTEND;TZID=America/New_York:20231014T170000
DTSTAMP:20260419T225410
CREATED:20230828T052218Z
LAST-MODIFIED:20231010T025303Z
UID:1202-1697288400-1697302800@www.triangledac.org
SUMMARY:Employment Awareness
DESCRIPTION:Gain insights into the latest advancements in accessible housing\, disability resources\, and technology. \n\n\n\nDon’t miss this unique opportunity to expand your knowledge and potentially take home fantastic door prizes.Please Register to Secure Your Spot! \n\n\n\nScholarships are available\, and applications are due by October 1st \n\n\n\n$10 ticket | $25 booth \n\n\n0123456789101112131415161718192021222324252627282930313233343536373839404142434445464748495051525354555657585960616263646566676869707172737475767778798081828384858687888990919293949596979899100General Admission10.00 USDEvent Admission012345678910Vendor Booth25.00 USDVendors may purchase booth space0123456789101112131415161718192021222324252627282930313233343536373839404142434445464748495051525354555657585960616263646566676869707172737475767778798081828384858687888990919293949596979899100Raffle5.00 USDDoor Prize TicketYour eTicket will be emailed after payment to your PayPal email address.
URL:https://www.triangledac.org/dacevent/employment-awareness-month/
LOCATION:Graduate Hotel\, 311 West Franklin Street\, Chapel Hill\, North Carolina\, 27517
ORGANIZER;CN="The Disability Awareness Council":MAILTO:info@trianlgedac.org
END:VEVENT
END:VCALENDAR