BEGIN:VCALENDAR
VERSION:2.0
PRODID:-//Disability Awareness Council - ECPv6.6.3//NONSGML v1.0//EN
CALSCALE:GREGORIAN
METHOD:PUBLISH
X-ORIGINAL-URL:https://www.triangledac.org
X-WR-CALDESC:Events for Disability Awareness Council
REFRESH-INTERVAL;VALUE=DURATION:PT1H
X-Robots-Tag:noindex
X-PUBLISHED-TTL:PT1H
BEGIN:VTIMEZONE
TZID:America/New_York
BEGIN:DAYLIGHT
TZOFFSETFROM:-0500
TZOFFSETTO:-0400
TZNAME:EDT
DTSTART:20230312T070000
END:DAYLIGHT
BEGIN:STANDARD
TZOFFSETFROM:-0400
TZOFFSETTO:-0500
TZNAME:EST
DTSTART:20231105T060000
END:STANDARD
END:VTIMEZONE
BEGIN:VEVENT
DTSTART;TZID=America/New_York:20230715T110000
DTEND;TZID=America/New_York:20230715T160000
DTSTAMP:20260421T235307
CREATED:20230522T202133Z
LAST-MODIFIED:20230522T205625Z
UID:1127-1689418800-1689436800@www.triangledac.org
SUMMARY:33rd Anniversary - American with Disabilities Act
DESCRIPTION:About The Program\n\n\n\nBLS/CPR Training\n\n\n\nThe need for life-saving knowledge and skills is universal to all communities and people. Whether a person with disabilities is injured or they are with someone who is injured\, everyone needs to know how to respond quickly and appropriately. CPR Training for people with disabilities can give them those skills.Training Conducted by Angela Nelson\, Lead Instructor at Abundant Life Services LLC.Come Join Us for CPR Certification.  \n\n\n\nAll Are Welcome. \n\n\n\nEmergency Preparedness\n\n\n\nIt is critical to educate and provide training not only to people with disabilities and their caregivers\, but also to emergency planners\, first responders\, and other members of the community who play an important role in making sure people with disabilities are included in emergency preparedness plans. States have developed tools and resources to rec hot to community members. \n\n\n\nWHO SHOULD ATTEND\n\n\n\nPeople with DisabilitiesService ProvidersCaregiverProfessionals Seeking Certification \n\n\n\nLocation Information\n\n\n\n15th\, July 2023\, 11:00 am – 4:00 pmTraining Sessions limited to 30 people\, RSVP by July 10thWHEREChapel Hill Public Library100 Library Dr. Chapel Hill\, NC 27514https://chapelhillpubliclibrary.org/ \n\n\n\nCOST$50 per person (Limited Scholarships Offered) \n\n\n\nPay Online Below Here: \n\n\n0123456789101112131415161718192021222324252627282930Event Ticket50.00 USDCost covers Lunch and Light RefreshmentsYour eTicket will be emailed after payment to your PayPal email address.\n\n\n\nOr Pay via Check Mailed to: \n\n\n\n OCDAC P.O. Box 3515 Chapel Hill\, NC 27514
URL:https://www.triangledac.org/dacevent/33rd-anniversary-american-with-disabilities-act/
LOCATION:Chapel Hill Public Library\, 100 Library Dr. Room A\, Chapel Hill\, NC\, 27514\, United States
END:VEVENT
END:VCALENDAR