BEGIN:VCALENDAR
VERSION:2.0
PRODID:-//Disability Awareness Council - ECPv6.6.3//NONSGML v1.0//EN
CALSCALE:GREGORIAN
METHOD:PUBLISH
X-ORIGINAL-URL:https://www.triangledac.org
X-WR-CALDESC:Events for Disability Awareness Council
REFRESH-INTERVAL;VALUE=DURATION:PT1H
X-Robots-Tag:noindex
X-PUBLISHED-TTL:PT1H
BEGIN:VTIMEZONE
TZID:America/New_York
BEGIN:DAYLIGHT
TZOFFSETFROM:-0500
TZOFFSETTO:-0400
TZNAME:EDT
DTSTART:20240310T070000
END:DAYLIGHT
BEGIN:STANDARD
TZOFFSETFROM:-0400
TZOFFSETTO:-0500
TZNAME:EST
DTSTART:20241103T060000
END:STANDARD
END:VTIMEZONE
BEGIN:VEVENT
DTSTART;TZID=America/New_York:20240823T110000
DTEND;TZID=America/New_York:20240823T140000
DTSTAMP:20260419T095615
CREATED:20240712T134307Z
LAST-MODIFIED:20240718T024302Z
UID:1715-1724410800-1724421600@www.triangledac.org
SUMMARY:AFFORDABLE & ACCESSIBLE HOUSING - KNOW YOUR RIGHTS
DESCRIPTION:Click here to Register \ Purchase Tickets \n\n\n0123456789101112131415161718192021222324252627282930313233343536373839404142434445464748495051525354555657585960616263646566676869707172737475767778798081828384858687888990919293949596979899100Professionals40.00 USDYour eTicket will be emailed after payment to your PayPal email address.\n\n\n\nHow to Register \ Pay: \n\n\n\n\nChoose number of attendees\n\n\n\nClick Pay Now\n\n\n\nClick Debit \ Credit\n\n\n\nEnter Email Address\n\n\n\nEnter Name\, Phone Number\n\n\n\nEnter Payment Information\n\n\n\nClick Pay\n\n\n\nYour ticket will be emailed\n\n\n\n\n\n\nAFFORDABLE AND ACCESSIBLEHOUSING\, KNOW YOUR RIGHTS!JOIN THE DISABILITY AWARENESS COUNCIL FOR A SEMINAR ABOUT AFFORDABLE AND ACCESSIBLE HOUSING AND THE RIGHTS OF PEOPLE WITH DISABILITIES!TDACWITHMICHAEL MANSET(Staff Attorney Fair Housing Project Legal Aid of North Carolina\, NC)Affordable and Accessible HousingHome Ownership and RentalLandlord and Tenant Rights. Reasonable Accommodation vs Modification. Plenty of Q&AREGISTER ONLINE AT WWW.TRIANGLEDAC.ORGProfessionals: $40Who should attend: Landlords\, Tenants\, Housing Providers. When: 23rd August 2024\, 11 am – 2 pm.Where: 100 Europa Drive\, Suite 100. Chapel Hill\, NC 27514.919-245-4437info@triangledac.orgReasonable accommodation upon request
URL:https://www.triangledac.org/dacevent/affordable-accessible-housing-know-your-rights/
LOCATION:Europa Center\, 100 Europa Drive\, Room 101\, Chapel Hill\, North Carolina\, 27514
ATTACH;FMTTYPE=image/png:https://www.triangledac.org/wp-content/uploads/2024/07/image.png
ORGANIZER;CN="The Disability Awareness Council":MAILTO:info@trianlgedac.org
END:VEVENT
END:VCALENDAR