BEGIN:VCALENDAR
VERSION:2.0
PRODID:-//Disability Awareness Council - ECPv6.6.3//NONSGML v1.0//EN
CALSCALE:GREGORIAN
METHOD:PUBLISH
X-WR-CALNAME:Disability Awareness Council
X-ORIGINAL-URL:https://www.triangledac.org
X-WR-CALDESC:Events for Disability Awareness Council
REFRESH-INTERVAL;VALUE=DURATION:PT1H
X-Robots-Tag:noindex
X-PUBLISHED-TTL:PT1H
BEGIN:VTIMEZONE
TZID:America/New_York
BEGIN:DAYLIGHT
TZOFFSETFROM:-0500
TZOFFSETTO:-0400
TZNAME:EDT
DTSTART:20240310T070000
END:DAYLIGHT
BEGIN:STANDARD
TZOFFSETFROM:-0400
TZOFFSETTO:-0500
TZNAME:EST
DTSTART:20241103T060000
END:STANDARD
END:VTIMEZONE
BEGIN:VEVENT
DTSTART;TZID=America/New_York:20240315T120000
DTEND;TZID=America/New_York:20240315T160000
DTSTAMP:20260419T170158
CREATED:20240228T124345Z
LAST-MODIFIED:20240313T205257Z
UID:1557-1710504000-1710518400@www.triangledac.org
SUMMARY:Affordable & Accessible Housing
DESCRIPTION:Affordable & Accessible Housing\n\n\n\n\n\nAffordable and Accessible Housing\, Know Your Rights!Who should attend! \n\n\n\n Landlords\, Tenant housing providers.  \n\n\n0123456789101112131415161718192021222324252627282930313233343536373839404142434445464748495051525354555657585960616263646566676869707172737475767778798081828384858687888990919293949596979899100People with Disabilities10.00 USDPeople with Disabilities - Accessible Housing0123456789101112131415161718192021222324252627282930313233343536373839404142434445464748495051525354555657585960616263646566676869707172737475767778798081828384858687888990919293949596979899100Professionals40.00 USDProfessionals - Accessible Housing012345678910Request Accommodations0.00 USDReasonable Accommodation Request - Accessible HousingYour eTicket will be emailed after payment to your PayPal email address.\n\n\n\nSome of the topics that will be discussed at these workshops include disability types andawareness\, and ADA updates\, and training and technical assistance educate servicesproviders\, people with disabilities \n\n\n\n\nAffordable and Accessible Housing\n\n\n\nHome ownership and Rental \n\n\n\nLandlord and Tenant Rights \n\n\n\nReasonable Accommodation vs Modification\n\n\n\nPlenty of Q and A\n\n\n\n\n\n\n\n\n\n\n\n0123456789101112131415161718192021222324252627282930313233343536373839404142434445464748495051525354555657585960616263646566676869707172737475767778798081828384858687888990919293949596979899100People with Disabilities10.00 USDPeople with Disabilities - Accessible Housing0123456789101112131415161718192021222324252627282930313233343536373839404142434445464748495051525354555657585960616263646566676869707172737475767778798081828384858687888990919293949596979899100Professionals40.00 USDProfessionals - Accessible Housing012345678910Request Accommodations0.00 USDReasonable Accommodation Request - Accessible HousingYour eTicket will be emailed after payment to your PayPal email address.\n\n\n\nAffordable and Accessible Housing\, Know Your Rights!Who should attend! Landlords\, Tenant housing providersSome of the topics that will be discussed at these workshops include disability types andawareness\, and ADA updates\, and training and technical assistance educate servicesproviders\, people with disabilities.
URL:https://www.triangledac.org/dacevent/affordable-accessible-housing-2/
LOCATION:Europa Center\, 100 Europa Drive\, Room 101\, Chapel Hill\, North Carolina\, 27514
ATTACH;FMTTYPE=image/png:https://www.triangledac.org/wp-content/uploads/2024/02/affordableaccessiblehousingdac.png
ORGANIZER;CN="The Disability Awareness Council":MAILTO:info@trianlgedac.org
END:VEVENT
END:VCALENDAR