BEGIN:VCALENDAR
VERSION:2.0
PRODID:-//Disability Awareness Council - ECPv6.6.3//NONSGML v1.0//EN
CALSCALE:GREGORIAN
METHOD:PUBLISH
X-ORIGINAL-URL:https://www.triangledac.org
X-WR-CALDESC:Events for Disability Awareness Council
REFRESH-INTERVAL;VALUE=DURATION:PT1H
X-Robots-Tag:noindex
X-PUBLISHED-TTL:PT1H
BEGIN:VTIMEZONE
TZID:America/New_York
BEGIN:DAYLIGHT
TZOFFSETFROM:-0500
TZOFFSETTO:-0400
TZNAME:EDT
DTSTART:20240310T070000
END:DAYLIGHT
BEGIN:STANDARD
TZOFFSETFROM:-0400
TZOFFSETTO:-0500
TZNAME:EST
DTSTART:20241103T060000
END:STANDARD
END:VTIMEZONE
BEGIN:VEVENT
DTSTART;TZID=America/New_York:20240223T100000
DTEND;TZID=America/New_York:20240223T153000
DTSTAMP:20260419T183844
CREATED:20240111T175054Z
LAST-MODIFIED:20240219T122946Z
UID:1308-1708682400-1708702200@www.triangledac.org
SUMMARY:We All Can Ride Transportation Workshop
DESCRIPTION:We All Can Ride Transportation Workshop Part II01234567891011121314151617181920212223242526272829303132333435363738394041424344454647484950People with Disabilities15.00 USDPeople with Disabilities0123456789101112131415161718192021222324252627282930313233343536373839404142434445464748495051525354555657585960616263646566676869707172737475767778798081828384858687888990919293949596979899100Request Accomodations0.00 USDRequest reasonable accommodations01234567891011121314151617181920212223242526272829303132333435363738394041424344454647484950Professionals85.00 USDProfessionalsYour eTicket will be emailed after payment to your PayPal email address.\n\n\n\nWe All Can Ride Transportation Workshop \n\n\n\nTopics that will be discussed:Disability types and AwarenessCustomer Service Monitoring \n\n\n\nADA updates \n\n\n\nSpeaker: \n\n\n\nKatherine L Newman\, ADACTraining & Technical Assistance SpecialistNational Aging and Disability Transportation Center \n\n\n\nWhen Friday\, February 16\, 2024\, 10 AM – 3:30 pm \n\n\n\nFriday\, February 23\, 2024\, 10 AM – 3:30 pm \n\n\n\n100 Europa Drive\, Room 101\,Chapel Hill\, NC 27514*Zoom option also available \n\n\n\nRegistration Link https://shorturl.at/dwHW3
URL:https://www.triangledac.org/dacevent/we-all-can-ride-transportation-workshop-2/
LOCATION:Europa Center\, 100 Europa Drive\, Room 101\, Chapel Hill\, North Carolina\, 27514
ATTACH;FMTTYPE=image/png:https://www.triangledac.org/wp-content/uploads/2024/01/image-1.png
ORGANIZER;CN="The Disability Awareness Council":MAILTO:info@trianlgedac.org
END:VEVENT
END:VCALENDAR